BEGIN:VCALENDAR
VERSION:2.0
PRODID:-//jEvents 2.0 for Joomla//EN
CALSCALE:GREGORIAN
METHOD:PUBLISH
BEGIN:VTIMEZONE
TZID:Europe/Vienna
BEGIN:STANDARD
DTSTART:20251026T020000
RDATE:20260329T030000
TZOFFSETFROM:+0200
TZOFFSETTO:+0100
TZNAME:Europe/Vienna CET
END:STANDARD
BEGIN:STANDARD
DTSTART:20261025T020000
RDATE:20270328T030000
TZOFFSETFROM:+0200
TZOFFSETTO:+0100
TZNAME:Europe/Vienna CET
END:STANDARD
BEGIN:STANDARD
DTSTART:20271031T020000
RDATE:20280326T030000
TZOFFSETFROM:+0200
TZOFFSETTO:+0100
TZNAME:Europe/Vienna CET
END:STANDARD
BEGIN:STANDARD
DTSTART:20281029T020000
RDATE:20290325T030000
TZOFFSETFROM:+0200
TZOFFSETTO:+0100
TZNAME:Europe/Vienna CET
END:STANDARD
BEGIN:STANDARD
DTSTART:20291028T020000
RDATE:20300331T030000
TZOFFSETFROM:+0200
TZOFFSETTO:+0100
TZNAME:Europe/Vienna CET
END:STANDARD
BEGIN:STANDARD
DTSTART:20301027T020000
RDATE:20310330T030000
TZOFFSETFROM:+0200
TZOFFSETTO:+0100
TZNAME:Europe/Vienna CET
END:STANDARD
BEGIN:STANDARD
DTSTART:20311026T020000
RDATE:20320328T030000
TZOFFSETFROM:+0200
TZOFFSETTO:+0100
TZNAME:Europe/Vienna CET
END:STANDARD
BEGIN:DAYLIGHT
DTSTART:20250528T200000
RDATE:20251026T020000
TZOFFSETFROM:+0100
TZOFFSETTO:+0200
TZNAME:Europe/Vienna CEST
END:DAYLIGHT
BEGIN:DAYLIGHT
DTSTART:20260329T030000
RDATE:20261025T020000
TZOFFSETFROM:+0100
TZOFFSETTO:+0200
TZNAME:Europe/Vienna CEST
END:DAYLIGHT
BEGIN:DAYLIGHT
DTSTART:20270328T030000
RDATE:20271031T020000
TZOFFSETFROM:+0100
TZOFFSETTO:+0200
TZNAME:Europe/Vienna CEST
END:DAYLIGHT
BEGIN:DAYLIGHT
DTSTART:20280326T030000
RDATE:20281029T020000
TZOFFSETFROM:+0100
TZOFFSETTO:+0200
TZNAME:Europe/Vienna CEST
END:DAYLIGHT
BEGIN:DAYLIGHT
DTSTART:20290325T030000
RDATE:20291028T020000
TZOFFSETFROM:+0100
TZOFFSETTO:+0200
TZNAME:Europe/Vienna CEST
END:DAYLIGHT
BEGIN:DAYLIGHT
DTSTART:20300331T030000
RDATE:20301027T020000
TZOFFSETFROM:+0100
TZOFFSETTO:+0200
TZNAME:Europe/Vienna CEST
END:DAYLIGHT
BEGIN:DAYLIGHT
DTSTART:20310330T030000
RDATE:20311026T020000
TZOFFSETFROM:+0100
TZOFFSETTO:+0200
TZNAME:Europe/Vienna CEST
END:DAYLIGHT
END:VTIMEZONE
BEGIN:VEVENT
UID:611d7d259bb38508e3722997d2f82dd4
CATEGORIES:Konzert
CREATED:20260326T131014
SUMMARY:Das Magische Dorf
LOCATION:Altes Kino Rankweil
DESCRIPTION:Das Magische Dorf ist da. In Kooperation mit anderen Kulturinitativen aus R
 ankweil und Zwischenwasser veranstaltet das Alte Kino ein Festival des Zusa
 mmenlebens. Wir feiern heimliche Plätze und bekannte Orte, hören zu und tei
 len uns mit, genießen das Dasein und tanzen in den Tag. Freut euch auf laut
 er kleine Entdeckungsreisen, auf ein gemeinsames Unterwegssein. Im Alten Ki
 no feiern wir mit Mona Ida und DuoLia.\nIm Alten Kino erwarten euch am Frei
 tag, den 29.05.2026 Mona Ida &amp; DuoLia. Der Foodtruck Imbiss 25 versorgt
  euch vor dem Alten Kino mit leckeren Speisen.\nMona Ida verpackt herz- und
  handgemachte Lieder direkt vom Bregenzer Bodenseeufer in Geschichten, die 
 manchmal mit und manchmal ohne Sinn sind. Zwei Gitarren und zwei Stimmen, v
 ielseitige Klänge und besondere Harmonien,\nGeschichten mit etwas mehr Sinn
 , naja und manchmal halt eben auch ohne, aber schön zuzuhören allemal.\nDuo
 Lia machen Indie-Folk mit selbst geschriebenen Liedern und lauten Gedanken.
  Zwei Stimmen, die sich gegenseitig auffangen und ergänzen. Manchmal laut, 
 manchmal leise, stets umrahmt vom warmen Klang der Gitarre und Violine. Duo
 Lia. sind Alia Wüschner und Julia Jackel, da wiegen sich freundschaftliche 
 Harmonien in halbnackten Texten, die zum Augen aufmachen auffordern, aber v
 iel öfter noch zum Augen schließen, um zu fühlen, was es zu fühlen gibt.\nè
 Mehr Infos zum gesamten Programm   (images/MagischesDorf2026.pdf)\n........
 ...........................................................................
 ...........................................................................
 ...........\nFREITAG, 29. MAI \n16 Uhr: St. Peter Bühel \nMitbringpicknick 
 / Manus Jukebox / Fahnengestaltung \n19 Uhr: Spaziergang vom St. Peter Bühe
 l zum Alten Kino begleitet von DuoLia \n20 Uhr: Altes Kino \nMona Ida / Duo
 Lia / Foodtruck Imbiss25 Karten: 18 Euro\n.................................
 ...........................................................................
 .............................................................\nSAMSTAG, 30.
  MAI \n12 Uhr: Sägewerk Jenny \nZirkusworkshop für Kinder (bis 15.30 Uhr) /
  Märchenerzählerinnen im Kellerfasstheater (stündlich) / Fabian Jäger, Cell
 o / Crêpes de Polo / Reiscurry von Lena \n15.30 Uhr: Klangspaziergang vom S
 ägewerk Jenny zum VogelfreiRAUM\n17 Uhr: vogelfreiRAUM Garten \nTrommeln: P
 rince Moussa Cissokho / Papa Sene / Simone / Skulpturbau / Grillen mit Ulli
  / Laotische &amp; thailändische Kost von Mao Mao \n20 Uhr: vogelfreiRAUM \
 nCherimoya Project / DJane Rosa\n..........................................
 ...........................................................................
 ....................................................\nSONNTAG, 31. MAI \n9.
 30 Uhr: Mesnerstüble \nBrunch / Salingari / Singender Weg mit Andreas Parag
 ioudakis &amp; Lucie Schaerer \n12.30 Uhr: Sagenspaziergang mit Christoph S
 imma vom Mesnerstüble zur OJA Rankweil \n13 Uhr: OJA Rankweil (Planet) \nKl
 eidertausch / Siebdruck / Forward Control / Grillen und Chillen \n17 Uhr: S
 paziergang von der OJA Rankweil über den Steg zu Hägi Wendls \nTanzen am St
 eg mit Aleksandra Vohl \n20 Uhr: Hägi Wendls\nResi Reiner / Gastgarten / Pi
 zza vom Verein Broteinheit Düns \nKarten: 18 Euro (www.ntry.at)\n..........
 ...........................................................................
 ...........................................................................
 .........\nDas Festival "Das Magische Dorf" wird von der Europäischen Union
  kofinanziert. \n#leader #vorderland #walgau #förderung #zukunftgestalten\n
  \n
X-ALT-DESC;FMTTYPE=text/html:<p class="MsoNormal"><strong><em>Das Magische Dorf </em></strong><em>ist da
 . In Kooperation mit anderen Kulturinitativen aus Rankweil und Zwischenwass
 er veranstaltet das Alte Kino ein Festival des Zusammenlebens. Wir feiern h
 eimliche Plätze und bekannte Orte, hören zu und teilen uns mit, genießen da
 s Dasein und tanzen in den Tag. Freut euch auf lauter kleine Entdeckungsrei
 sen, auf ein gemeinsames Unterwegssein. Im Alten Kino feiern wir mit Mona I
 da und DuoLia.</em></p><p class="MsoNormal"><strong>Im Alten Kino erwarten 
 euch am Freitag, den 29.05.2026 Mona Ida &amp; DuoLia. Der Foodtruck Imbiss
  25 versorgt euch vor dem Alten Kino mit leckeren Speisen.</strong></p><p><
 strong>Mona Ida </strong>verpackt herz- und handgemachte Lieder direkt vom 
 Bregenzer Bodenseeufer in Geschichten, die manchmal mit und manchmal ohne S
 inn sind. Zwei Gitarren und zwei Stimmen, vielseitige Klänge und besondere 
 Harmonien,<br />Geschichten mit etwas mehr Sinn, naja und manchmal halt ebe
 n auch ohne, aber schön zuzuhören allemal.</p><p><strong>DuoLia </strong>ma
 chen Indie-Folk mit selbst geschriebenen Liedern und lauten Gedanken. Zwei 
 Stimmen, die sich gegenseitig auffangen und ergänzen. Manchmal laut, manchm
 al leise, stets umrahmt vom warmen Klang der Gitarre und Violine. DuoLia. s
 ind Alia Wüschner und Julia Jackel, da wiegen sich freundschaftliche Harmon
 ien in halbnackten Texten, die zum Augen aufmachen auffordern, aber viel öf
 ter noch zum Augen schließen, um zu fühlen, was es zu fühlen gibt.</p><p><s
 pan style="color: #ffffff; background-color: #3598db;"><strong><a style="co
 lor: #ffffff; background-color: #3598db;" href="https://alteskino.at/images
 /MagischesDorf2026.pdf"><em><span lang="DE" style="font-size: 10pt; font-fa
 mily: Wingdings; background-color: #3598db;"><span style="mso-char-type: sy
 mbol; mso-symbol-font-family: Wingdings;">è</span></span>Mehr Infos zum ges
 amten Programm  </em></a></strong></span></p><p class="MsoNormal">.........
 ...........................................................................
 ...........................................................................
 ..........</p><p class="MsoNormal"><strong>FREITAG, 29. MAI<em> </em></stro
 ng></p><p class="MsoNormal"><strong><em>16 Uhr: St. Peter Bühel <br /></em>
 </strong><em>Mitbringpicknick / Manus Jukebox / Fahnengestaltung </em></p><
 p class="MsoNormal"><strong><em>19 Uhr: Spaziergang vom St. Peter Bühel zum
  Alten Kino begleitet von DuoLia </em></strong></p><p class="MsoNormal"><st
 rong><em>20 Uhr: Altes Kino</em></strong><em> <br /></em><em>Mona Ida / Duo
 Lia / Foodtruck Imbiss25 Karten: 18 Euro</em></p><p class="MsoNormal">.....
 ...........................................................................
 ...........................................................................
 ..............</p><p class="MsoNormal"><strong>SAMSTAG, 30. MAI </strong></
 p><p class="MsoNormal"><strong><em>12 Uhr: Sägewerk Jenny</em></strong><em>
  <br /></em><em>Zirkusworkshop für Kinder (bis 15.30 Uhr) / Märchenerzähler
 innen im Kellerfasstheater (stündlich) / Fabian Jäger, Cello / Crêpes de Po
 lo / Reiscurry von Lena </em></p><p class="MsoNormal"><strong><em>15.30 Uhr
 : Klangspaziergang vom Sägewerk Jenny zum VogelfreiRAUM</em></strong></p><p
  class="MsoNormal"><strong><em>17 Uhr: vogelfreiRAUM Garten</em></strong><e
 m> <br /></em><em>Trommeln: Prince Moussa Cissokho / Papa Sene / Simone / S
 kulpturbau / Grillen mit Ulli / Laotische &amp; thailändische Kost von Mao 
 Mao </em></p><p class="MsoNormal"><strong><em>20 Uhr: vogelfreiRAUM</em></s
 trong><em> <br /></em><em>Cherimoya Project / DJane Rosa</em></p><p class="
 MsoNormal">................................................................
 ...........................................................................
 ..............................</p><p class="MsoNormal"><strong>SONNTAG, 31.
  MAI </strong></p><p class="MsoNormal"><strong><em>9.30 Uhr: Mesnerstüble <
 br /></em></strong><em>Brunch / Salingari / Singender Weg mit Andreas Parag
 ioudakis &amp; Lucie Schaerer </em></p><p class="MsoNormal"><strong><em>12.
 30 Uhr: Sagenspaziergang mit Christoph Simma vom Mesnerstüble zur OJA Rankw
 eil </em></strong></p><p class="MsoNormal"><strong><em>13 Uhr: OJA Rankweil
  (Planet) <br /></em></strong><em>Kleidertausch / Siebdruck / Forward Contr
 ol / Grillen und Chillen </em></p><p class="MsoNormal"><strong><em>17 Uhr: 
 Spaziergang von der OJA Rankweil über den Steg zu Hägi Wendls <br /></em></
 strong><em>Tanzen am Steg mit Aleksandra Vohl </em></p><p class="MsoNormal"
 ><strong><em>20 Uhr</em></strong><em>: <strong>Hägi Wendls<br /></strong></
 em><em>Resi Reiner / Gastgarten / Pizza vom Verein Broteinheit Düns <br /><
 /em><a href="https://ntry.at/dasmagischedorfresireiner/performances/26807?l
 =de"><em>Karten: 18 Euro (www.ntry.at)</em></a></p><p>.....................
 ...........................................................................
 .........................................................................</
 p><p><em>Das Festival "Das Magische Dorf" wird von der Europäischen Union k
 ofinanziert. <br /></em><em>#leader #vorderland #walgau #förderung #zukunft
 gestalten</em></p><p> </p>
X-EXTRAINFO:Mona Ida &amp; DuoLia
DTSTAMP:20260421T123025
DTSTART;TZID=Europe/Vienna:20260529T200000
SEQUENCE:0
TRANSP:OPAQUE
END:VEVENT
END:VCALENDAR