BEGIN:VCALENDAR
VERSION:2.0
PRODID:-//jEvents 2.0 for Joomla//EN
CALSCALE:GREGORIAN
METHOD:PUBLISH
BEGIN:VTIMEZONE
TZID:Europe/Vienna
BEGIN:STANDARD
DTSTART:20240212T180000
RDATE:20240331T030000
TZOFFSETFROM:+0200
TZOFFSETTO:+0100
TZNAME:Europe/Vienna CET
END:STANDARD
BEGIN:STANDARD
DTSTART:20241027T020000
RDATE:20250330T030000
TZOFFSETFROM:+0200
TZOFFSETTO:+0100
TZNAME:Europe/Vienna CET
END:STANDARD
BEGIN:STANDARD
DTSTART:20251026T020000
RDATE:20260329T030000
TZOFFSETFROM:+0200
TZOFFSETTO:+0100
TZNAME:Europe/Vienna CET
END:STANDARD
BEGIN:STANDARD
DTSTART:20261025T020000
RDATE:20270328T030000
TZOFFSETFROM:+0200
TZOFFSETTO:+0100
TZNAME:Europe/Vienna CET
END:STANDARD
BEGIN:STANDARD
DTSTART:20271031T020000
RDATE:20280326T030000
TZOFFSETFROM:+0200
TZOFFSETTO:+0100
TZNAME:Europe/Vienna CET
END:STANDARD
BEGIN:STANDARD
DTSTART:20281029T020000
RDATE:20290325T030000
TZOFFSETFROM:+0200
TZOFFSETTO:+0100
TZNAME:Europe/Vienna CET
END:STANDARD
BEGIN:STANDARD
DTSTART:20291028T020000
RDATE:20300331T030000
TZOFFSETFROM:+0200
TZOFFSETTO:+0100
TZNAME:Europe/Vienna CET
END:STANDARD
BEGIN:STANDARD
DTSTART:20301027T020000
RDATE:20310330T030000
TZOFFSETFROM:+0200
TZOFFSETTO:+0100
TZNAME:Europe/Vienna CET
END:STANDARD
BEGIN:STANDARD
DTSTART:20311026T020000
RDATE:20320328T030000
TZOFFSETFROM:+0200
TZOFFSETTO:+0100
TZNAME:Europe/Vienna CET
END:STANDARD
BEGIN:DAYLIGHT
DTSTART:20240331T030000
RDATE:20241027T020000
TZOFFSETFROM:+0100
TZOFFSETTO:+0200
TZNAME:Europe/Vienna CEST
END:DAYLIGHT
BEGIN:DAYLIGHT
DTSTART:20250330T030000
RDATE:20251026T020000
TZOFFSETFROM:+0100
TZOFFSETTO:+0200
TZNAME:Europe/Vienna CEST
END:DAYLIGHT
BEGIN:DAYLIGHT
DTSTART:20260329T030000
RDATE:20261025T020000
TZOFFSETFROM:+0100
TZOFFSETTO:+0200
TZNAME:Europe/Vienna CEST
END:DAYLIGHT
BEGIN:DAYLIGHT
DTSTART:20270328T030000
RDATE:20271031T020000
TZOFFSETFROM:+0100
TZOFFSETTO:+0200
TZNAME:Europe/Vienna CEST
END:DAYLIGHT
BEGIN:DAYLIGHT
DTSTART:20280326T030000
RDATE:20281029T020000
TZOFFSETFROM:+0100
TZOFFSETTO:+0200
TZNAME:Europe/Vienna CEST
END:DAYLIGHT
BEGIN:DAYLIGHT
DTSTART:20290325T030000
RDATE:20291028T020000
TZOFFSETFROM:+0100
TZOFFSETTO:+0200
TZNAME:Europe/Vienna CEST
END:DAYLIGHT
BEGIN:DAYLIGHT
DTSTART:20300331T030000
RDATE:20301027T020000
TZOFFSETFROM:+0100
TZOFFSETTO:+0200
TZNAME:Europe/Vienna CEST
END:DAYLIGHT
BEGIN:DAYLIGHT
DTSTART:20310330T030000
RDATE:20311026T020000
TZOFFSETFROM:+0100
TZOFFSETTO:+0200
TZNAME:Europe/Vienna CEST
END:DAYLIGHT
END:VTIMEZONE
BEGIN:VEVENT
UID:4779303cf15fa1809b586bf76a6e7c2b
CATEGORIES:Film
CREATED:20250127T100253
SUMMARY:Jugendkino «Wicked»
LOCATION:Altes Kino Rankweil
DESCRIPTION:WICKED erzählt die bislang unbekannte Geschichte der Hexen von Oz. Im Mitte
 lpunkt stehen zwei junge Frauen: Zum einen Elphaba, die aufgrund ihrer unge
 wöhnlichen grünen Hautfarbe missverstanden wird und ihre wahren Fähigkeiten
  erst noch entdecken muss, zum anderen die beliebte, ehrgeizige und privile
 gierte Glinda, die ihr wahres Ich noch finden muss.\nDie beiden treffen sic
 h als Studentinnen an der Universität Glizz im fantastischen Land Oz und sc
 hließen eine ungewöhnliche, aber tiefe Freundschaft miteinander. Nach einer
  Begegnung mit dem wundervollen Zauberer von Oz gelangt ihre Beziehung an e
 inen Wendepunkt, und die Lebenswege der beiden Freundinnen verlaufen höchst
  unterschiedlich. Glindas unbeirrbarer Wunsch nach Beliebtheit verführt sie
  zur Macht, während Elphabas Entschlossenheit, sich selbst und den Menschen
  in ihrer Umgebung treu zu bleiben, unerwartete und schockierende Folgen fü
 r ihre Zukunft haben wird. In ihren unglaublichen Abenteuern in Oz müssen s
 chließlich beide ihre Bestimmungen erfüllen: Glinda als die Gute und Elphab
 a als böse Hexe des Westens.\nFantasy, Musical (USA 2024) | Dauer: 160 Minu
 ten\nRegie: Jon M. Chu | Mit: Cynthia Erivo, Ariana Grande, Michelle Yeoh u
 vm.\nAltersbeschränkung: ab 12 Jahren\nEine Kooperation: Marktgemeinde Rank
 weil, Altes Kino Rankweil, Offene Jugendarbeit Rankweil\n
X-ALT-DESC;FMTTYPE=text/html:<p>WICKED erzählt die bislang unbekannte Geschichte der Hexen von Oz. Im Mi
 ttelpunkt stehen zwei junge Frauen: Zum einen Elphaba, die aufgrund ihrer u
 ngewöhnlichen grünen Hautfarbe missverstanden wird und ihre wahren Fähigkei
 ten erst noch entdecken muss, zum anderen die beliebte, ehrgeizige und priv
 ilegierte Glinda, die ihr wahres Ich noch finden muss.</p><p>Die beiden tre
 ffen sich als Studentinnen an der Universität Glizz im fantastischen Land O
 z und schließen eine ungewöhnliche, aber tiefe Freundschaft miteinander. Na
 ch einer Begegnung mit dem wundervollen Zauberer von Oz gelangt ihre Bezieh
 ung an einen Wendepunkt, und die Lebenswege der beiden Freundinnen verlaufe
 n höchst unterschiedlich. Glindas unbeirrbarer Wunsch nach Beliebtheit verf
 ührt sie zur Macht, während Elphabas Entschlossenheit, sich selbst und den 
 Menschen in ihrer Umgebung treu zu bleiben, unerwartete und schockierende F
 olgen für ihre Zukunft haben wird. In ihren unglaublichen Abenteuern in Oz 
 müssen schließlich beide ihre Bestimmungen erfüllen: Glinda als die Gute un
 d Elphaba als böse Hexe des Westens.</p><p>Fantasy, Musical (USA 2024) | Da
 uer: 160 Minuten<br />Regie: Jon M. Chu | Mit: Cynthia Erivo, Ariana Grande
 , Michelle Yeoh uvm.<br />Altersbeschränkung: ab 12 Jahren</p><p>Eine Koope
 ration: Marktgemeinde Rankweil, Altes Kino Rankweil, Offene Jugendarbeit Ra
 nkweil</p>
X-EXTRAINFO:Semesterferienprogramm
DTSTAMP:20260422T130156
DTSTART;TZID=Europe/Vienna:20250212T180000
SEQUENCE:0
TRANSP:OPAQUE
END:VEVENT
END:VCALENDAR